BEGIN:VCALENDAR
VERSION:2.0
PRODID:-// eRoom plugin //NONSGML v1.0//EN
CALSCALE:GREGORIAN
BEGIN:VEVENT
UID:eRoom-1777122799
SUMMARY:Reunion de prueba
LOCATION:Zoom
DESCRIPTION:Agenda Bla Bla Bla\n\n---\n\nReunion de prueba is inviting you 
 to a scheduled Zoom meeting.\n\nJoin Zoom Meeting\nhttps://us05web.zoom.us
 /j/82355903792?pwd=KwHwpvb2b7mjAYe4m3m5jOv21MrSam.1\n\nMeeting ID: 8235590
 3792\nPasscode: 123456\n
URL;VALUE=URI:https://us05web.zoom.us/j/82355903792?pwd=KwHwpvb2b7mjAYe4m3m5jOv21MrSam.1
DTSTART:20231207T230000Z
DTEND:20231207T233000Z
DTSTAMP:20260425T131319Z
BEGIN:VALARM
ACTION:DISPLAY
DESCRIPTION:Reminder
TRIGGER;RELATED=START:-PT15M
END:VALARM
END:VEVENT
END:VCALENDAR